BEGIN:VCALENDAR
VERSION:2.0
PRODID:-//wp-events-plugin.com//7.2.3.1//EN
TZID:Europe/Berlin
X-WR-TIMEZONE:Europe/Berlin
BEGIN:VEVENT
UID:54@phpugffm.de
DTSTART;TZID=Europe/Berlin:20171023T190000
DTEND;TZID=Europe/Berlin:20171023T220000
DTSTAMP:20171023T062105Z
URL:https://www.phpugffm.de/veranstaltungen-2/grumpyspecial/
SUMMARY:GrumpySpecial - Silberturm - 23 Okt. 17 19:00
DESCRIPTION:The Frankfurt PHP-Usergroup meets Chris Hartjes
LOCATION:Silberturm\, Jürgen Pronto Platz 1\, Frankfurt am Main\,
 Deutschland
GEO:50.10967;8.668930000000046
X-APPLE-STRUCTURED-LOCATION;VALUE=URI;X-ADDRESS=Jürgen Pronto Platz 1\,
 Frankfurt am Main\,
 Deutschland;X-APPLE-RADIUS=100;X-TITLE=Silberturm:geo:50.10967,8.6689300000
 00046
END:VEVENT
BEGIN:VTIMEZONE
TZID:Europe/Berlin
X-LIC-LOCATION:Europe/Berlin
BEGIN:DAYLIGHT
DTSTART:20170326T030000
TZOFFSETFROM:+0100
TZOFFSETTO:+0200
TZNAME:CEST
END:DAYLIGHT
END:VTIMEZONE
END:VCALENDAR