BEGIN:VCALENDAR
VERSION:2.0
PRODID:-//wp-events-plugin.com//7.2.3.1//EN
TZID:Europe/Berlin
X-WR-TIMEZONE:Europe/Berlin
BEGIN:VEVENT
UID:43@phpugffm.de
DTSTART;TZID=Europe/Berlin:20160121T190000
DTEND;TZID=Europe/Berlin:20160121T213000
DTSTAMP:20151117T134548Z
URL:https://www.phpugffm.de/veranstaltungen-2/phpugffm-i-2016/
SUMMARY:PHPUGFFM I / 2016 - SOLVIANS IT-Solutions GmbH - 21 Jan. 16 19:00
DESCRIPTION:1. Treffen 2016 der Frankfurter PHP-Usergroup\n\n19:00 Uhr
 Ankommen\n19:15 Uhr kurze Vorstellungsrunde\n19:30 Uhr Marco Pivetta -
 "Voodoo-PHP"\n20:15 Uhr kurze Pause\n20:30 Uhr Walter Ebert - "WordPress
 Templates mit Twig erstellen"\n21:15 Uhr
 Networking\n\n=========================================\n1th meetup in 2016
 of the Frankfurt PHP-Usergroup\n\n19:00 Doors open\n19:15 short
 introduction\n19:30 Marco Pivetta - "Voodoo-PHP"\n20:15 short break\n20:30
 Walter Ebert - "WordPress Templates mit Twig erstellen"\n21:15 socialising
CATEGORIES:UG-Treffen
LOCATION:SOLVIANS IT-Solutions GmbH\, Speicherstraße 49-51\, Frankfurt am
 Main\, 60327\, Deutschland
GEO:50.0995552;8.658753100000013
X-APPLE-STRUCTURED-LOCATION;VALUE=URI;X-ADDRESS=Speicherstraße 49-51\,
 Frankfurt am Main\, 60327\, Deutschland;X-APPLE-RADIUS=100;X-TITLE=SOLVIANS
 IT-Solutions GmbH:geo:50.0995552,8.658753100000013
END:VEVENT
BEGIN:VTIMEZONE
TZID:Europe/Berlin
X-LIC-LOCATION:Europe/Berlin
BEGIN:STANDARD
DTSTART:20151025T020000
TZOFFSETFROM:+0200
TZOFFSETTO:+0100
TZNAME:CET
END:STANDARD
END:VTIMEZONE
END:VCALENDAR