BEGIN:VCALENDAR
VERSION:2.0
PRODID:-//wp-events-plugin.com//7.2.3.1//EN
TZID:Europe/Berlin
X-WR-TIMEZONE:Europe/Berlin
BEGIN:VEVENT
UID:55@phpugffm.de
DTSTART;TZID=Europe/Berlin:20180118T190000
DTEND;TZID=Europe/Berlin:20180118T220000
DTSTAMP:20180107T195502Z
URL:https://www.phpugffm.de/veranstaltungen-2/phpugffm-i-2018/
SUMMARY:PHPUGFFM I / 2018 - CHECK24 - 18 Jan. 18 19:00
DESCRIPTION:Die PHP-Usergroup in Frankfurt trifft sich zum 1. Mal in
 2018.\n\nAgenda:\n\n19:00 - Ankommen\n19:15 - kurze
 Vorstellungsrunde\n19:30 - "Confessions of a Code Poet" - Stephan
 Hochdörfer\n20:15 - kurze Pause\n20:30 - "Finding Developers" - Jan Gregor
 Triebel\n21:15 - Offenes Ende\n\n\n\nThe PHP-Usergroup in Frankfurt meets
 for the 1st time in 2018.\n\nAgenda:\n\n19:00 - Doors open\n19:15 - short
 introduction round\n19:30 - "Confessions of a Code Poet" - Stephan
 Hochdörfer\n20:15 - short break\n20:30 - "Finding Developers" - Jan Gregor
 Triebel\n21:15 - Open end\n\n
LOCATION:CHECK24\, Mainzer Landstraße 47\, Frankfurt am Main\, 60329\,
 Deutschland
GEO:50.1106768;8.66444219999994
X-APPLE-STRUCTURED-LOCATION;VALUE=URI;X-ADDRESS=Mainzer Landstraße 47\,
 Frankfurt am Main\, 60329\,
 Deutschland;X-APPLE-RADIUS=100;X-TITLE=CHECK24:geo:50.1106768,8.66444219999
 994
END:VEVENT
BEGIN:VTIMEZONE
TZID:Europe/Berlin
X-LIC-LOCATION:Europe/Berlin
BEGIN:STANDARD
DTSTART:20171029T020000
TZOFFSETFROM:+0200
TZOFFSETTO:+0100
TZNAME:CET
END:STANDARD
END:VTIMEZONE
END:VCALENDAR