BEGIN:VCALENDAR
VERSION:2.0
PRODID:-//wp-events-plugin.com//7.2.3.1//EN
TZID:Europe/Berlin
X-WR-TIMEZONE:Europe/Berlin
BEGIN:VEVENT
UID:37@phpugffm.de
DTSTART;TZID=Europe/Berlin:20150127T190000
DTEND;TZID=Europe/Berlin:20150127T220000
DTSTAMP:20150126T191801Z
URL:https://www.phpugffm.de/veranstaltungen-2/phpugffm-i2015/
SUMMARY:PHPUGFFM I/2015 - Silberturm - 27 Jan. 15 19:00
DESCRIPTION:The first meeting of the PHP-Usergroup in Frankfurt in
 2015.\n\nPart of the WisdomWorldTour!\n\nSchedule:\n\n19:00Doors
 open\n19:15First Session: What's your (automated) deployment
 method?\n20:00Break\n20:15Second Session: Ways to Maximize Your Growth as a
 Developer by Yitzchok Willroth\n21:00Socializing - Open End\n\n\n\n\nDie
 PHP-Usergroup Frankfurt am Main trifft sich zum ersten Mal in 2015!\n\nTeil
 der WisdomWorldTour!\n\nPlanung:\n\n19:00Ankommen\n19:15Erste Session: Was
 ist dein (automatisierter) Livegang?\n20:00Pause\n20:15Zweite Session: Ways
 to Maximize Your Growth as a Developer von Yitzchok Willroth (Keynote der
 PHPBenelux-Konferenz\n21:00Gemütliches Ende\n\n
CATEGORIES:UG-Treffen
LOCATION:Silberturm\, Jürgen Ponto Platz 1\, Frankfurt am Main\,
 Deutschland
GEO:50.10967;8.668930000000046
X-APPLE-STRUCTURED-LOCATION;VALUE=URI;X-ADDRESS=Jürgen Ponto Platz 1\,
 Frankfurt am Main\,
 Deutschland;X-APPLE-RADIUS=100;X-TITLE=Silberturm:geo:50.10967,8.6689300000
 00046
END:VEVENT
BEGIN:VTIMEZONE
TZID:Europe/Berlin
X-LIC-LOCATION:Europe/Berlin
BEGIN:STANDARD
DTSTART:20141026T020000
TZOFFSETFROM:+0200
TZOFFSETTO:+0100
TZNAME:CET
END:STANDARD
END:VTIMEZONE
END:VCALENDAR