BEGIN:VCALENDAR
VERSION:2.0
PRODID:-//wp-events-plugin.com//7.2.3.1//EN
TZID:Europe/Berlin
X-WR-TIMEZONE:Europe/Berlin
BEGIN:VEVENT
UID:26@phpugffm.de
DTSTART;TZID=Europe/Berlin:20130321T190000
DTEND;TZID=Europe/Berlin:20130321T220000
DTSTAMP:20130321T081133Z
URL:https://www.phpugffm.de/veranstaltungen-2/phpugffm-ii-2013/
SUMMARY:PHPUGFFM II / 2013 - iBrams GmbH & Co. KG - 21 März 13 19:00
DESCRIPTION:Agenda:\n\n19:00\nAnkommen\n\n19:10\nIntro\n\n19:15\nStephan
 Hochdörfer - Dependency Injection\n\n20:00\nPause\n\n20:15\nMarkus Tacker
 - Einführung in Composer\n\nab 21:00\nEpilog / Networking\n\nParken und
 Anreise:\n\n\nMit öffentlichen Verkehrsmitteln:\nTram 11 bis
 Casellastraße oder Mainkur Bahnhof\, dann noch ca. 3-5 Minuten zu
 Fuß\noder Regionalbahn 55 bis Mainkur Bahnhof\, dann noch ca. 8 Minuten zu
 Fuß\n\nMit dem Auto:\nHanauer Landstraße 523\, "Jade-Haus"\n\nEs stehen
 ca. 5 Parkplätze zu Verfügung. Der Eingang befindet sich auf der
 Rückseite des Jade-Hauses im Untergeschoss.\n\n 
CATEGORIES:UG-Treffen
LOCATION:iBrams GmbH & Co. KG\, Hanauer Landstraße 523\, Frankfurt am
 Main\, Hessen\, 60386\, Deutschland
GEO:50.131065;8.762281
X-APPLE-STRUCTURED-LOCATION;VALUE=URI;X-ADDRESS=Hanauer Landstraße 523\,
 Frankfurt am Main\, Hessen\, 60386\,
 Deutschland;X-APPLE-RADIUS=100;X-TITLE=iBrams GmbH & Co.
 KG:geo:50.131065,8.762281
END:VEVENT
BEGIN:VTIMEZONE
TZID:Europe/Berlin
X-LIC-LOCATION:Europe/Berlin
BEGIN:STANDARD
DTSTART:20121028T020000
TZOFFSETFROM:+0200
TZOFFSETTO:+0100
TZNAME:CET
END:STANDARD
END:VTIMEZONE
END:VCALENDAR