BEGIN:VCALENDAR
VERSION:2.0
PRODID:-//wp-events-plugin.com//7.2.3.1//EN
TZID:Europe/Berlin
X-WR-TIMEZONE:Europe/Berlin
BEGIN:VEVENT
UID:56@phpugffm.de
DTSTART;TZID=Europe/Berlin:20180322T190000
DTEND;TZID=Europe/Berlin:20180322T220000
DTSTAMP:20180308T072021Z
URL:https://www.phpugffm.de/veranstaltungen-2/phpugffm-ii-2018/
SUMMARY:PHPUGFFM II / 2018 - Feed Dynamix - 22 März 18 19:00
DESCRIPTION:Die PHP-Usergroup in Frankfurt trifft sich zum 2. Mal in
 2018.\n\nAgenda:\n\n19:00 - Ankommen\n19:15 - kurze
 Vorstellungsrunde\n19:30 - "Wie geht eigentlich Kommunikation" - Oliver
 Trossen\n20:15 - kurze Pause\n20:30 - "Wie wollen wir arbeiten" - Jonas
 Eisenhut / Oliver Trossen\n21:15 - Offenes Ende\n\n\n\nThe PHP-Usergroup in
 Frankfurt meets for the 2nd time in 2018.\n\nAgenda:\n\n19:00 - Doors
 open\n19:15 - short introduction round\n19:30 - "Wie geht eigentlich
 Kommunikation" (How does communication work) - Oliver Trossen\n20:15 -
 short break\n20:30 - "Wie wollen wir arbeiten" (How do we want to work) -
 Jonas Eisenhut / Oliver Trossen\n21:15 - Open end
CATEGORIES:UG-Treffen
LOCATION:Feed Dynamix\, Ludwigstraße 31\, Frankfurt/Main\, 60327 \,
 Deutschland
GEO:50.1088015;8.657101600000033
X-APPLE-STRUCTURED-LOCATION;VALUE=URI;X-ADDRESS=Ludwigstraße 31\,
 Frankfurt/Main\, 60327 \, Deutschland;X-APPLE-RADIUS=100;X-TITLE=Feed
 Dynamix:geo:50.1088015,8.657101600000033
END:VEVENT
BEGIN:VTIMEZONE
TZID:Europe/Berlin
X-LIC-LOCATION:Europe/Berlin
BEGIN:STANDARD
DTSTART:20171029T020000
TZOFFSETFROM:+0200
TZOFFSETTO:+0100
TZNAME:CET
END:STANDARD
END:VTIMEZONE
END:VCALENDAR