BEGIN:VCALENDAR
VERSION:2.0
PRODID:-//wp-events-plugin.com//7.2.3.1//EN
TZID:Europe/Berlin
X-WR-TIMEZONE:Europe/Berlin
BEGIN:VEVENT
UID:45@phpugffm.de
DTSTART;TZID=Europe/Berlin:20160519T190000
DTEND;TZID=Europe/Berlin:20160519T213000
DTSTAMP:20160503T102043Z
URL:https://www.phpugffm.de/veranstaltungen-2/phpugffm-iii-2016/
SUMMARY:PHPUGFFM III / 2016 - Sitewards GmbH - 19 Mai 16 19:00
DESCRIPTION:Die PHP-Usergroup in Frankfurt trifft sich zum 3. Mal in
 2016.\n\nDiesmal dankenswerter weise wieder bei sitewards!\n\n19:00 -
 Ankommen\n19:15 - Kurze Vorstellungsrunde\n19:30 - time is an illusion
 (Andreas Heigl)\n20:15 - Kurze Pause\n20:30 - Event Sourcing: the good\,
 the bad and the complicated (Marco Pivetta)\n21:15 - Offenes
 Ende\n\n===================================================================
 =================\n\nThe PHP-Usergroup in Frankfurt meets for the 3rd time
 in 2016.\n\nThis time we thankfully are again guests at sitewards!\n\n19:00
 - doors open\n19:15 - short introduction round\n19:30 - time is an illusion
 (Andreas Heigl)\n20:15 - Short break\n20:30 - Event Sourcing: the good\,
 the bad and the complicated (Marco Pivetta)\n21:15 - open end \n
LOCATION:Sitewards GmbH\, Untermainkai 30\, Frankfurt am Main\, Hessen\,
 60329\, Deutschland
GEO:50.10530000000001;8.671109999999999
X-APPLE-STRUCTURED-LOCATION;VALUE=URI;X-ADDRESS=Untermainkai 30\, Frankfurt
 am Main\, Hessen\, 60329\, Deutschland;X-APPLE-RADIUS=100;X-TITLE=Sitewards
 GmbH:geo:50.10530000000001,8.671109999999999
END:VEVENT
BEGIN:VTIMEZONE
TZID:Europe/Berlin
X-LIC-LOCATION:Europe/Berlin
BEGIN:DAYLIGHT
DTSTART:20160327T030000
TZOFFSETFROM:+0100
TZOFFSETTO:+0200
TZNAME:CEST
END:DAYLIGHT
END:VTIMEZONE
END:VCALENDAR