BEGIN:VCALENDAR
VERSION:2.0
PRODID:-//wp-events-plugin.com//7.2.3.1//EN
TZID:Europe/Berlin
X-WR-TIMEZONE:Europe/Berlin
BEGIN:VEVENT
UID:47@phpugffm.de
DTSTART;TZID=Europe/Berlin:20161003T190000
DTEND;TZID=Europe/Berlin:20161003T213000
DTSTAMP:20160930T132338Z
URL:https://www.phpugffm.de/veranstaltungen-2/phpugffm-iv-2016/
SUMMARY:PHPUGFFM IV / 2016 - Silberturm - 3 Okt. 16 19:00
DESCRIPTION:Die PHP-Usergroup in Frankfurt trifft sich zum 4. Mal in
 2016.\n\nDiesmal dankenswerter Weise wieder im Silberturm der
 DBSystel!\n\n19:00 - Ankommen\n19:15 - Kurze Vorstellungsrunde\n19:30 -
 Building Powerful and Scalable Micro Applications with Zend
 Expressive (Matthew Setter)\n20:15 - Kurze Pause\n20:30 - Refactoring
 Legacy Code (Adam Culp)\n21:15 - Offenes Ende\n\n\n\nThe PHP-Usergroup in
 Frankfurt meets for the 4th time in 2016.\n\nThis time we thankfully are
 again guests at DBSystels Silvertower\n\n19:00 - doors open\n19:15 - short
 introduction round\n19:30 - Building Powerful and Scalable Micro
 Applications with Zend Expressive (Matthew Setter)\n20:15 - Short
 break\n20:30 - Refactoring Legacy Code (Adam Culp)\n21:15 - open end
LOCATION:Silberturm\, Jürgen Pronto Platz 1\, Frankfurt am Main\,
 Deutschland
GEO:50.10967;8.668930000000046
X-APPLE-STRUCTURED-LOCATION;VALUE=URI;X-ADDRESS=Jürgen Pronto Platz 1\,
 Frankfurt am Main\,
 Deutschland;X-APPLE-RADIUS=100;X-TITLE=Silberturm:geo:50.10967,8.6689300000
 00046
END:VEVENT
BEGIN:VTIMEZONE
TZID:Europe/Berlin
X-LIC-LOCATION:Europe/Berlin
BEGIN:DAYLIGHT
DTSTART:20160327T030000
TZOFFSETFROM:+0100
TZOFFSETTO:+0200
TZNAME:CEST
END:DAYLIGHT
END:VTIMEZONE
END:VCALENDAR