BEGIN:VCALENDAR
VERSION:2.0
PRODID:-//wp-events-plugin.com//7.2.3.1//EN
TZID:Europe/Berlin
X-WR-TIMEZONE:Europe/Berlin
BEGIN:VEVENT
UID:79@phpugffm.de
DTSTART;TZID=Europe/Berlin:20211118T190000
DTEND;TZID=Europe/Berlin:20211118T220000
DTSTAMP:20211118T080109Z
URL:https://www.phpugffm.de/veranstaltungen-2/phpugffm-v-2021/
SUMMARY:PHPUGFFM V / 2021 -  - 18 Nov. 21 19:00
DESCRIPTION:\nDie PHP-Usergroup in Frankfurt trifft sich zum 5. Mal in
 2021.\n\n\n\nWir treffen uns natürlich wieder online unter
 https://us02web.zoom.us/j/833034535359 (Passwort:
 852003)\n\n\n\n\n\n\n\nAgenda:\n\n\n\n19:00 - Ankommen19:15 - kurze
 Vorstellungsrunde19:30 - Matthew Setter: "Deployment of PHP-Apps with
 Docker"20:15 - kurze Pause20:30 - Christian Münch: "Webdienste zuhause
 betreiben"21:15 - Offenes Ende\n\n\n\n\n\n\n\nThe PHP-Usergroup in
 Frankfurt meets for the 5th time in 2021.\n\n\n\nWe will meet online
 again.\n\n\n\nAgenda:\n\n\n\n19:00 - Doors open19:15 - short introduction
 round19:30 - Matthew Setter: "Deployment of PHP-Apps with Docker"20:15 -
 short break20:30 - Christian Münch: "Webdienste zuhause betreiben" (talk
 in german language)21:15 - Open end\n
CATEGORIES:UG-Treffen
END:VEVENT
BEGIN:VTIMEZONE
TZID:Europe/Berlin
X-LIC-LOCATION:Europe/Berlin
BEGIN:STANDARD
DTSTART:20211031T020000
TZOFFSETFROM:+0200
TZOFFSETTO:+0100
TZNAME:CET
END:STANDARD
END:VTIMEZONE
END:VCALENDAR